BEGIN:VCALENDAR
PRODID:-//dvv-bw.de//dvv.Portalplattform//DE
VERSION:2.0
METHOD:PUBLISH
BEGIN:VEVENT
DTSTART:20231203T093000Z
DTEND:20231203T173000Z
DTSTAMP:20231203T093000Z
UID:2502786-2503527-1701558000000
SUMMARY:Morsbacher Weihnachtsdorf
LOCATION:Morsbach\, Lange Gasse\, 74653 Künzelsau
DESCRIPTION:Stimmungsvolles Weihnachtsdorf in Morsbach
CLASS:PUBLIC
X-ALT-DESC;FMTTYPE=text/html:Stimmungsvolles Weihnachtsdorf in Morsbach
END:VEVENT
END:VCALENDAR
