BEGIN:VCALENDAR
PRODID:-//dvv-bw.de//dvv.Portalplattform//DE
VERSION:2.0
METHOD:PUBLISH
BEGIN:VEVENT
DTSTART:20260430T160000Z
DTEND:20260430T180000Z
DTSTAMP:20260426T041344Z
UID:4530403-4530302-1777500000000
SUMMARY:Maifest Nagelsberg
LOCATION:Kelter Nagelsberg\, Belsenberger Straße 5\, 74653 Künzelsau-Nagelsberg
DESCRIPTION:Nagelsberger Maifest
CLASS:PUBLIC
X-ALT-DESC;FMTTYPE=text/html:Nagelsberger Maifest
END:VEVENT
END:VCALENDAR
