BEGIN:VCALENDAR
PRODID:-//dvv-bw.de//dvv.Portalplattform//DE
VERSION:2.0
METHOD:PUBLISH
BEGIN:VEVENT
DTSTART:20270420T070000Z
DTEND:20270420T090000Z
DTSTAMP:20260424T205819Z
UID:4481184-4481084-1808172000000
SUMMARY:Kinder- und Schülerkonzerte
LOCATION:CARMEN WÜRTH FORUM\, Am Forumsplatz 1\, 74653 Künzelsau
DESCRIPTION:Sergej ProkofjewPeter und der Wolf\, op. 67\nLisa Moon | KatzeMoisés Irajá dos Santos | WolfFrederic Böhle | PeterElisabeth Fuchs | Dirigentin\nWürth Philharmoniker\nDie Vorstellungen richten sich an folgende Altersstufen:9.00–10.00 Uhr: Kindergarten und Grundschule11.30–12.30 Uhr: Kindergarten und Grundschule14.00–15.00 Uhr: weiterführende Schule
CLASS:PUBLIC
X-ALT-DESC;FMTTYPE=text/html:Sergej ProkofjewPeter und der Wolf\, op. 67<br>Lisa Moon | KatzeMoisés Irajá dos Santos | WolfFrederic Böhle | PeterElisabeth Fuchs | Dirigentin<br>Würth Philharmoniker<br>Die Vorstellungen richten sich an folgende Altersstufen:9.00&ndash;10.00 Uhr: Kindergarten und Grundschule11.30&ndash;12.30 Uhr: Kindergarten und Grundschule14.00&ndash;15.00 Uhr: weiterführende Schule
END:VEVENT
END:VCALENDAR
